BEGIN:VCALENDAR
VERSION:2.0
PRODID:-//https://www.gaestehaus.abtei-muensterschwarzach.de///NONSGML kigkonsult.se iCalcreator 2.10.15//
METHOD:PUBLISH
BEGIN:VEVENT
UID:20260421T123750CEST-6719ibBjps@https://www.gaestehaus.abtei-muenstersch
 warzach.de/
DTSTAMP:20260421T103750Z
DESCRIPTION:Das Leben führt jeden von uns seinen eigenen Weg. Wir erfahren 
 ganz von selbst Freud und Leid\, Licht und Schatten. Nehmen wir es als inn
 ere Aufgabe an\, uns den Unbilden des Lebens zu stellen und immer weniger 
 abhängig zu sein vom Hin und Her des Lebens\, dann kann eine tiefe Ruhe un
 d Zufriedenheit wachsen\, die uns glücklich macht. Eine innere Haltung\, d
 ie dabei hilft\, ist die DANKBARKEIT. In diesem Seminar wollen wir uns Zei
 t nehmen\, die Brille der Dankbarkeit aufzusetzen und im Buch unseres Lebe
 ns zu lesen. Dabei helfen uns Zeiten der Stille und des Gespräches\, Impul
 se aus der heiligen Schrift und aus der Benediktsregel\, kreative Übungen 
 und Rituale\, Zeiten des Gebetes und der Betrachtung der Natur. Einfache H
 andarbeit in den Klosterbetrieben (z.B. in der Gärtnerei) helfen uns\, auc
 h im Tun Dankbarkeit einzuüben. Bitte bringen Sie Arbeitskleidung und fest
 e Schuhe mit.freie Plätze: -1 Leider Ausgebucht. Nur noch Aufnahme auf die
  Warteliste möglich    Buchungsnummer13662OrtAbtei MünsterschwarzachRefere
 ntenPater Christoph Gerhard  (Abtei Münsterschwarzach)Erwin Sickinger  (Si
 ckinger Training)KostenKursgebühr:140\,00 €Übernachtung im EZ mit Vollpens
 ion: 262\,00 €         https://www.gaestehaus.abtei-muensterschwarzach.de/
 kurse/kalender/event/13662-dankbarkeit-ist-ein-licht\,-das-jede-dunkelheit
 -erleuchtet
DTSTART:20260423T173000Z
DTEND:20260426T130000Z
LOCATION:Abtei Münsterschwarzach ()
SUMMARY:Dankbarkeit ist ein Licht\, das jede Dunkelheit erleuchtet
URL:https://www.gaestehaus.abtei-muensterschwarzach.de/kurse/kalender/event
 /13662-dankbarkeit-ist-ein-licht,-das-jede-dunkelheit-erleuchtet
END:VEVENT
END:VCALENDAR
