BEGIN:VCALENDAR
VERSION:2.0
PRODID:-//https://www.gaestehaus.abtei-muensterschwarzach.de///NONSGML kigkonsult.se iCalcreator 2.10.15//
METHOD:PUBLISH
BEGIN:VEVENT
UID:20260421T141033CEST-1877UDrTpU@https://www.gaestehaus.abtei-muenstersch
 warzach.de/
DTSTAMP:20260421T121033Z
DESCRIPTION:Frauen führen auf ihre eigene Weise. Sie kopieren nicht die Män
 ner mit ihrem Führungsstil\, sondern entwickeln eine eigene Qualität des F
 ührens. In diesem Kurs wollen wir den Frauen Mut machen ihre eigenen Stärk
 en beim Führen einzusetzen\, und sich den Herausforderungen zu stellen\, d
 enen Frauen ausgesetzt sind. Und es geht darum\, für sich selbst gut zu so
 rgen. Dabei lernen wir auch von den Frauen in Asien\, die oft mehr Vertrau
 en in ihren weiblichen Führungsstil haben als Frauen in Deutschland. Gerad
 e der Austausch zwischen den Frauen soll die Teilnehmerinnen ermutigen\, i
 hren eigenen Führungsstil zu leben. Von den Erfahrungen\, die jede schon i
 n ihrer Führungsaufgabe gemacht hat\, können auch die andern profitieren. 
 Neben den inhaltlichen Impulsen und dem Austausch in Gruppen wollen wir au
 ch in Übungen die Qualitäten des Weiblichen in der Führung erleben.freie P
 lätze: 9    Buchungsnummer13596OrtAbtei MünsterschwarzachReferentenPater A
 nselm Grün  (Abtei Münsterschwarzach)Dr. Hsin-Ju WuKostenKursgebühr:400\,0
 0 €Übernachtung im EZ mit Vollpension: 172\,00 €         https://www.gaest
 ehaus.abtei-muensterschwarzach.de/kurse/kalender/event/13596-die-qualität-
 des-weiblichen-in-der-führung
DTSTART:20260511T180000Z
DTEND:20260513T130000Z
LOCATION:Abtei Münsterschwarzach ()
SUMMARY:Die Qualität des Weiblichen in der Führung
URL:https://www.gaestehaus.abtei-muensterschwarzach.de/kurse/kalender/event
 /13596-die-qualität-des-weiblichen-in-der-führung
END:VEVENT
END:VCALENDAR
