BEGIN:VCALENDAR
VERSION:2.0
PRODID:-//https://www.gaestehaus.abtei-muensterschwarzach.de///NONSGML kigkonsult.se iCalcreator 2.10.15//
METHOD:PUBLISH
BEGIN:VEVENT
UID:20260421T110136CEST-77963aS9gz@https://www.gaestehaus.abtei-muenstersch
 warzach.de/
DTSTAMP:20260421T090136Z
DESCRIPTION:Wer den Weg der Kontemplation geht\, braucht immer wieder Zeite
 n intensiver Übung und regelmäßiger Begleitung. Zu beidem will dieser Fort
 führungskurs einladen. Dieser Schweigekurs setzt eine Einführung in die Ko
 ntemplation oder in das Jesusgebet voraus. Im achtsamen Verweilen in unser
 er inneren Gebetsübung wollen wir uns ausrichten auf die Gegenwart Gottes.
  Kurselemente: ca. 6\,5 Std. Sitzen in der Stille über den Tag verteilt\, 
 meditatives Gehen\, Vorträge\, Einzelgespräche\, Körperspürübungen. Bitte 
 bequeme Kleidung mitbringen.freie Plätze: 10    Buchungsnummer13819OrtAbte
 i MünsterschwarzachReferentenBruder Jakobus Geiger  (Abtei Münsterschwarza
 ch)KostenKursgebühr:180\,00 €Übernachtung im EZ mit Vollpension: 622\,00 €
          https://www.gaestehaus.abtei-muensterschwarzach.de/kurse/kalender
 /event/13819-kontemplation-fortführung
DTSTART:20260522T180000Z
DTEND:20260529T130000Z
LOCATION:Abtei Münsterschwarzach ()
SUMMARY:Kontemplation Fortführung
URL:https://www.gaestehaus.abtei-muensterschwarzach.de/kurse/kalender/event
 /13819-kontemplation-fortführung
END:VEVENT
END:VCALENDAR
